BEGIN:VCALENDAR
VERSION:2.0
PRODID:-//Risk Hub - ECPv6.15.20//NONSGML v1.0//EN
CALSCALE:GREGORIAN
METHOD:PUBLISH
X-WR-CALNAME:Risk Hub
X-ORIGINAL-URL:https://riskhub.com.au
X-WR-CALDESC:Events for Risk Hub
REFRESH-INTERVAL;VALUE=DURATION:PT1H
X-Robots-Tag:noindex
X-PUBLISHED-TTL:PT1H
BEGIN:VTIMEZONE
TZID:Australia/Sydney
BEGIN:STANDARD
TZOFFSETFROM:+1100
TZOFFSETTO:+1000
TZNAME:AEST
DTSTART:20240406T160000
END:STANDARD
BEGIN:DAYLIGHT
TZOFFSETFROM:+1000
TZOFFSETTO:+1100
TZNAME:AEDT
DTSTART:20241005T160000
END:DAYLIGHT
BEGIN:STANDARD
TZOFFSETFROM:+1100
TZOFFSETTO:+1000
TZNAME:AEST
DTSTART:20250405T160000
END:STANDARD
BEGIN:DAYLIGHT
TZOFFSETFROM:+1000
TZOFFSETTO:+1100
TZNAME:AEDT
DTSTART:20251004T160000
END:DAYLIGHT
BEGIN:STANDARD
TZOFFSETFROM:+1100
TZOFFSETTO:+1000
TZNAME:AEST
DTSTART:20260404T160000
END:STANDARD
BEGIN:DAYLIGHT
TZOFFSETFROM:+1000
TZOFFSETTO:+1100
TZNAME:AEDT
DTSTART:20261003T160000
END:DAYLIGHT
END:VTIMEZONE
BEGIN:VEVENT
DTSTART;TZID=Australia/Sydney:20250213T110000
DTEND;TZID=Australia/Sydney:20250213T113000
DTSTAMP:20260425T232104
CREATED:20250120T072127Z
LAST-MODIFIED:20250120T115732Z
UID:5713-1739444400-1739446200@riskhub.com.au
SUMMARY:The Secrets to Effective Underwriting | MLC Life Insurance
DESCRIPTION:Duration: 30 minutes\nCPD Area: Client care and practice \nEffective risk onboarding hinges on successfully navigating the underwriting process for each client. In this session you’ll delve deep into MLC Life Insurance’s underwriting philosophy\, gaining practical tips for engaging with our underwriting team and learning how to support your clients through the process\, saving valuable time and ensuring a seamless experience for all. \nRegister now to secure your spot: Click here
URL:https://riskhub.com.au/event/the-secrets-to-effective-underwriting-mlc-life-insurance/
LOCATION:Webinar
ATTACH;FMTTYPE=image/png:https://riskhub.com.au/wp-content/uploads/2025/01/Thre-secrets-to-effective-underwriting.png
END:VEVENT
BEGIN:VEVENT
DTSTART;TZID=Australia/Sydney:20250225T110000
DTEND;TZID=Australia/Sydney:20250225T120000
DTSTAMP:20260425T232104
CREATED:20250120T072510Z
LAST-MODIFIED:20250120T074452Z
UID:5715-1740481200-1740484800@riskhub.com.au
SUMMARY:Leveraging Data to Build Appropriate Trauma Cover | MLC Life Insurance
DESCRIPTION:Duration: 1 hour\nCPD Area: Technical \nWithout a clear methodology in place\, determining the right sum insured for your clients’ Critical Illness Insurance can feel like a guessing game. This session will guide you through a data-driven approach to constructing appropriate cover\, taking into account data on medical care\, claim causes and rates\, family costs\, and lifestyle expenses. \nRegister now to secure your spot: Click here
URL:https://riskhub.com.au/event/leveraging-data-to-build-appropriate-trauma-cover-mlc-life-insurance/
LOCATION:Webinar
ATTACH;FMTTYPE=image/png:https://riskhub.com.au/wp-content/uploads/2025/01/Leveraging-Data.png
END:VEVENT
END:VCALENDAR