BEGIN:VCALENDAR
VERSION:2.0
PRODID:-//Risk Hub - ECPv6.15.20//NONSGML v1.0//EN
CALSCALE:GREGORIAN
METHOD:PUBLISH
X-WR-CALNAME:Risk Hub
X-ORIGINAL-URL:https://riskhub.com.au
X-WR-CALDESC:Events for Risk Hub
REFRESH-INTERVAL;VALUE=DURATION:PT1H
X-Robots-Tag:noindex
X-PUBLISHED-TTL:PT1H
BEGIN:VTIMEZONE
TZID:Australia/Sydney
BEGIN:STANDARD
TZOFFSETFROM:+1100
TZOFFSETTO:+1000
TZNAME:AEST
DTSTART:20230401T160000
END:STANDARD
BEGIN:DAYLIGHT
TZOFFSETFROM:+1000
TZOFFSETTO:+1100
TZNAME:AEDT
DTSTART:20230930T160000
END:DAYLIGHT
BEGIN:STANDARD
TZOFFSETFROM:+1100
TZOFFSETTO:+1000
TZNAME:AEST
DTSTART:20240406T160000
END:STANDARD
BEGIN:DAYLIGHT
TZOFFSETFROM:+1000
TZOFFSETTO:+1100
TZNAME:AEDT
DTSTART:20241005T160000
END:DAYLIGHT
BEGIN:STANDARD
TZOFFSETFROM:+1100
TZOFFSETTO:+1000
TZNAME:AEST
DTSTART:20250405T160000
END:STANDARD
BEGIN:DAYLIGHT
TZOFFSETFROM:+1000
TZOFFSETTO:+1100
TZNAME:AEDT
DTSTART:20251004T160000
END:DAYLIGHT
END:VTIMEZONE
BEGIN:VEVENT
DTSTART;TZID=Australia/Sydney:20241010T110000
DTEND;TZID=Australia/Sydney:20241010T120000
DTSTAMP:20260422T052821
CREATED:20240827T072751Z
LAST-MODIFIED:20240827T072751Z
UID:5059-1728558000-1728561600@riskhub.com.au
SUMMARY:Practice Development Series: Why Wellbeing is What Clients Want
DESCRIPTION:Using insurer wellbeing offerings to enhance client experience and ongoing engagement\, based on global research and behavioral finance. \n \n  \nPRESENTER: Marshall Ross – Strategy & Risk Advice Manager \nWith over 9 years’ experience in the Life Insurance industry spanning a variety of roles from underwriting\, new business and business development across multiple leading insurers and a family background in financial advice practice\,Marshall is passionate about risk advice and assisting advisers to deliver efficient and effective outcomes for their clients. \nMarshall holds a Bachelor of Business from the Queensland University of Technology along with a Diploma of Financial Planning and in his role as Strategy & Risk Advice Manager at MLC Life Insurance is involved in working with advisers on strategic risk advice and delivering educational content to MLC Life Insurance partners. \n  \nInsurance is issued by MLC Limited. MLC Limited uses the MLC Brand under Licence from the Insignia Financial Group. MLC Limited is part of the Nippon Life Insurance Group and is not a part of the Insignia Financial Group.
URL:https://riskhub.com.au/event/why-wellbeing-is-what-clients-want/
LOCATION:Webinar
CATEGORIES:Life Insurance,Practice Management
ATTACH;FMTTYPE=image/png:https://riskhub.com.au/wp-content/uploads/2024/04/MLC-Webinar-program.png
END:VEVENT
END:VCALENDAR