BEGIN:VCALENDAR
VERSION:2.0
PRODID:-//Risk Hub - ECPv6.15.20//NONSGML v1.0//EN
CALSCALE:GREGORIAN
METHOD:PUBLISH
X-WR-CALNAME:Risk Hub
X-ORIGINAL-URL:https://riskhub.com.au
X-WR-CALDESC:Events for Risk Hub
REFRESH-INTERVAL;VALUE=DURATION:PT1H
X-Robots-Tag:noindex
X-PUBLISHED-TTL:PT1H
BEGIN:VTIMEZONE
TZID:Australia/Sydney
BEGIN:STANDARD
TZOFFSETFROM:+1100
TZOFFSETTO:+1000
TZNAME:AEST
DTSTART:20230401T160000
END:STANDARD
BEGIN:DAYLIGHT
TZOFFSETFROM:+1000
TZOFFSETTO:+1100
TZNAME:AEDT
DTSTART:20230930T160000
END:DAYLIGHT
BEGIN:STANDARD
TZOFFSETFROM:+1100
TZOFFSETTO:+1000
TZNAME:AEST
DTSTART:20240406T160000
END:STANDARD
BEGIN:DAYLIGHT
TZOFFSETFROM:+1000
TZOFFSETTO:+1100
TZNAME:AEDT
DTSTART:20241005T160000
END:DAYLIGHT
BEGIN:STANDARD
TZOFFSETFROM:+1100
TZOFFSETTO:+1000
TZNAME:AEST
DTSTART:20250405T160000
END:STANDARD
BEGIN:DAYLIGHT
TZOFFSETFROM:+1000
TZOFFSETTO:+1100
TZNAME:AEDT
DTSTART:20251004T160000
END:DAYLIGHT
END:VTIMEZONE
BEGIN:VEVENT
DTSTART;TZID=Australia/Sydney:20240801T110000
DTEND;TZID=Australia/Sydney:20240801T114000
DTSTAMP:20260422T120119
CREATED:20240704T234303Z
LAST-MODIFIED:20240704T234303Z
UID:4957-1722510000-1722512400@riskhub.com.au
SUMMARY:Risk Conversations: Marc Fabris & Peter Stathis\, with special guest Mia Inglis (Johnson)
DESCRIPTION:Welcome to the Risk Conversations Series – an engaging and informal webinar series by Risk Hub. \nHost: Marc Fabris\, Founder of Risk Hub \nCo-Host: Peter Stathis\, The Life Insurance Guy \nAnd our Special Guest: Mia Inglis (Johnson)\, from Keyman Financial Services \nJoin us as we delve into: \n\nOpportunities for new entrants in the industry\nThe importance of claims in your client conversations\nWays to help grow your expertise and learning\n\nAs always\, we encourage you to bring your questions and participate in the conversation. \n📅 Date: 1 August 2024 \n🕒 Time: 11:00am-11:40am \nCan’t make it live? Don’t worry! We record all our sessions\, so you can watch them later at your convenience. \nRegister Now to secure your spot and join the conversation!
URL:https://riskhub.com.au/event/risk-conversations-marc-fabris-peter-stathis-with-special-guest-mia-inglis-johnson/
LOCATION:Webinar
CATEGORIES:Life Insurance,Practice Management
ATTACH;FMTTYPE=image/png:https://riskhub.com.au/wp-content/uploads/2024/05/Risk-Conversation-Marc-Pete.png
END:VEVENT
BEGIN:VEVENT
DTSTART;TZID=Australia/Sydney:20240821T110000
DTEND;TZID=Australia/Sydney:20240821T120000
DTSTAMP:20260422T120119
CREATED:20240608T081800Z
LAST-MODIFIED:20240617T041732Z
UID:4808-1724238000-1724241600@riskhub.com.au
SUMMARY:Practice Development Series: Making the Renewal Process Work for Your Business
DESCRIPTION:Engaging with existing risk clients efficiently while adding value\, considering the elements of the review process and techniques to maximise the client experience. \n \n  \nPRESENTER: Marshall Ross – Strategy & Risk Advice Manager \nWith over 9 years’ experience in the Life Insurance industry spanning a variety of roles from underwriting\, new business and business development across multiple leading insurers and a family background in financial advice practice\,Marshall is passionate about risk advice and assisting advisers to deliver efficient and effective outcomes for their clients. \nMarshall holds a Bachelor of Business from the Queensland University of Technology along with a Diploma of Financial Planning and in his role as Strategy & Risk Advice Manager at MLC Life Insurance is involved in working with advisers on strategic risk advice and delivering educational content to MLC Life Insurance partners. \n  \nInsurance is issued by MLC Limited. MLC Limited uses the MLC Brand under Licence from the Insignia Financial Group. MLC Limited is part of the Nippon Life Insurance Group and is not a part of the Insignia Financial Group.
URL:https://riskhub.com.au/event/practice-development-series-renewals/
LOCATION:Webinar
CATEGORIES:Life Insurance,Practice Management
ATTACH;FMTTYPE=image/png:https://riskhub.com.au/wp-content/uploads/2024/04/MLC-Webinar-program.png
END:VEVENT
END:VCALENDAR