BEGIN:VCALENDAR
VERSION:2.0
PRODID:-//Risk Hub - ECPv6.15.20//NONSGML v1.0//EN
CALSCALE:GREGORIAN
METHOD:PUBLISH
X-ORIGINAL-URL:https://riskhub.com.au
X-WR-CALDESC:Events for Risk Hub
REFRESH-INTERVAL;VALUE=DURATION:PT1H
X-Robots-Tag:noindex
X-PUBLISHED-TTL:PT1H
BEGIN:VTIMEZONE
TZID:Australia/Sydney
BEGIN:STANDARD
TZOFFSETFROM:+1100
TZOFFSETTO:+1000
TZNAME:AEST
DTSTART:20240406T160000
END:STANDARD
BEGIN:DAYLIGHT
TZOFFSETFROM:+1000
TZOFFSETTO:+1100
TZNAME:AEDT
DTSTART:20241005T160000
END:DAYLIGHT
BEGIN:STANDARD
TZOFFSETFROM:+1100
TZOFFSETTO:+1000
TZNAME:AEST
DTSTART:20250405T160000
END:STANDARD
BEGIN:DAYLIGHT
TZOFFSETFROM:+1000
TZOFFSETTO:+1100
TZNAME:AEDT
DTSTART:20251004T160000
END:DAYLIGHT
BEGIN:STANDARD
TZOFFSETFROM:+1100
TZOFFSETTO:+1000
TZNAME:AEST
DTSTART:20260404T160000
END:STANDARD
BEGIN:DAYLIGHT
TZOFFSETFROM:+1000
TZOFFSETTO:+1100
TZNAME:AEDT
DTSTART:20261003T160000
END:DAYLIGHT
END:VTIMEZONE
BEGIN:VEVENT
DTSTART;TZID=Australia/Sydney:20250327T120000
DTEND;TZID=Australia/Sydney:20250327T130000
DTSTAMP:20260426T022025
CREATED:20250120T073721Z
LAST-MODIFIED:20250310T102157Z
UID:5721-1743076800-1743080400@riskhub.com.au
SUMMARY:Demographical Differentiation: Risk Advice Across Generations | MLC Life Insurance
DESCRIPTION:Duration: 1 hour\nCPD Area: Client Care & Practice & Technical \nIt’s no secret that financial disparity between today’s retirees and future generations is increasing. When overlaid with the desires of many retirees to financially assist their children and grandchildren\, this creates a unique set of risks and challenges. But it also presents opportunities that some financial advisers may overlook. \n  \nThis webinar looks at practical strategies for both engaging new\, younger clients in risk advice and effectively managing retirees’ retirement impact risks\, all with the goal of driving commercial value for your practice. \n  \nRegister now to secure your spot: Click here
URL:https://riskhub.com.au/event/demographical-differentiation-risk-advice-across-generations-mlc-life-insurance/
LOCATION:Webinar
ATTACH;FMTTYPE=image/jpeg:https://riskhub.com.au/wp-content/uploads/2025/01/Demographical-Differentiation-Risk-Advice-Across-Generations.jpeg
END:VEVENT
END:VCALENDAR