BEGIN:VCALENDAR
VERSION:2.0
PRODID:-//Risk Hub - ECPv6.15.20//NONSGML v1.0//EN
CALSCALE:GREGORIAN
METHOD:PUBLISH
X-WR-CALNAME:Risk Hub
X-ORIGINAL-URL:https://riskhub.com.au
X-WR-CALDESC:Events for Risk Hub
REFRESH-INTERVAL;VALUE=DURATION:PT1H
X-Robots-Tag:noindex
X-PUBLISHED-TTL:PT1H
BEGIN:VTIMEZONE
TZID:Australia/Sydney
BEGIN:STANDARD
TZOFFSETFROM:+1100
TZOFFSETTO:+1000
TZNAME:AEST
DTSTART:20230401T160000
END:STANDARD
BEGIN:DAYLIGHT
TZOFFSETFROM:+1000
TZOFFSETTO:+1100
TZNAME:AEDT
DTSTART:20230930T160000
END:DAYLIGHT
BEGIN:STANDARD
TZOFFSETFROM:+1100
TZOFFSETTO:+1000
TZNAME:AEST
DTSTART:20240406T160000
END:STANDARD
BEGIN:DAYLIGHT
TZOFFSETFROM:+1000
TZOFFSETTO:+1100
TZNAME:AEDT
DTSTART:20241005T160000
END:DAYLIGHT
BEGIN:STANDARD
TZOFFSETFROM:+1100
TZOFFSETTO:+1000
TZNAME:AEST
DTSTART:20250405T160000
END:STANDARD
BEGIN:DAYLIGHT
TZOFFSETFROM:+1000
TZOFFSETTO:+1100
TZNAME:AEDT
DTSTART:20251004T160000
END:DAYLIGHT
END:VTIMEZONE
BEGIN:VEVENT
DTSTART;TZID=Australia/Sydney:20241112T090000
DTEND;TZID=Australia/Sydney:20241112T160000
DTSTAMP:20260421T180747
CREATED:20240923T134815Z
LAST-MODIFIED:20241105T014907Z
UID:5112-1731402000-1731427200@riskhub.com.au
SUMMARY:Risk Support Showcase [Register Now]
DESCRIPTION:Register Now for the Risk Support Showcase \nJoin us for a day packed with interactive sessions designed to help streamline your risk advice processes and enhance the way you deliver advice. The Risk Support Showcase will feature a variety of providers offering practical solutions and insights to elevate your business. \nThink of it like a live expo\, with demonstrations\, Q&A\, and hands-on tools for your practice. \n<<Submit Your Questions for the Sessions Here>> \n🗓️ Date: 12 November 2024\n🕘 Time: 9am to 4pm AEDST\n📍 Location: Online Event \n  \n<< REGISTER HERE >>\n  \nRun of the Day: \nHere’s a sneak peek at the sessions and what you can expect to see: \n\n–> Sessions from 9:00am\n9:00am – Open & Overview of the day\nYour Hosts: Marc Fabris & Peter Stathis\nKick off the day’s sessions with an overview of the key topics \n9:15am – Starting with Digital\nDr Paul Moran – iFact Find\nFind out how digital fact find tools can streamline the early stages of the advice process\, making data collection easier and faster. \n10:00am – Creating Efficiency Early in the Advice Process\nStuart Riddle – Claras.ai\nLearn how AI-powered file notes can reduce admin work and boost your productivity. \n10:30am – Leveraging Platforms to Streamline Estate Planning\nBrant Dillon – The Legal Hub\nDiscover how to use estate planning platforms to better integrate these services into your advice practice. \n11:00am – Online Estate Planning Facilitation\nAaron Zelman – Willed\nSimplify estate planning for your clients with a straightforward online solution that makes the process more accessible. \n11:15am  – Improving Adviser Efficiency: Case Studies & Insights\nKarli Mann – Alura Financial\nReal-world examples of how outsourcing admin and advice tasks can increase your efficiency and give you more time to focus on clients. \n*Break  from 12:00 – 12:30pm* \n  \n–> Sessions from 12:30pm\n12:30pm – Streamlining Client Servicing\nRobert Sheptun – CDM Solutions\nPractical tools and solutions to improve ongoing client servicing\, from managing renewals to enhancing client experience. \n1:00pm – Unlocking Efficiency in Underwriting: Pathology Services\nStephen Clarkson – EQ Pathology\nLearn how pathology services can speed up the underwriting process and improve client satisfaction. \n1:30pm – AI Tools for Advisers\nMarc Fabris – Risk Hub\nExplore AI tools that are transforming efficiency in advice delivery\, including insights into which tools other advisers rely on and where to find additional support. \n2:00pm – Technical Assistance for Advisers\nDavid Spiteri – LifeTech Assist\nDiscover how technical support can help optimise your advice delivery systems and streamline operations. \n2:30pm – Help When It Matters Most: Claims Support\nTrevor Battersby – TPD Claim Support\nInsights into managing the claims process\, the regulations you need to be aware of\, and the key risks for advisers. \n3:00pm – Panel Discussion: Industry Insights & Q&A\nKeely O’Brien CALI / Phil Anderson FAAA\nHave your questions answered by representatives from key industry bodies as they discuss what’s next for risk advice support in Australia. \n3:30pm – Key Takeaways and Close of session\nYour Hosts: Marc Fabris & Peter Stathis\nWrap up with essential insights and actionable steps from the day \n  \n<< REGISTER HERE >>\n  \nYou’ll be able to pick and choose the sessions most relevant to your needs. So\, register\, mark your calendar\, and we’ll see you there! \n  \nCan’t make it? \nNo problem! All sessions will be recorded and available to watch later. Just make sure to register\, and we’ll keep you in the loop with access to the recordings and any special offers from the providers. Don’t miss out – even if you can’t join live\, you’ll still have the opportunity to benefit from the valuable insights shared on the day. \n<<Submit Your Questions for the Sessions Here>> \nFor more info\, send us a message at info@riskhub.com.au. \n  \nDid you previously use our Save the Date option? Once registered\, feel free to remove your ‘save the date’ calendar entry.
URL:https://riskhub.com.au/event/risk-support-showcase-nov-2024/
LOCATION:Webinar
CATEGORIES:Life Insurance,Practice Management
ATTACH;FMTTYPE=image/png:https://riskhub.com.au/wp-content/uploads/2024/09/Showcase-banner3.png
END:VEVENT
END:VCALENDAR